BEGIN:VCALENDAR
VERSION:2.0
PRODID:icalendar-ruby
CALSCALE:GREGORIAN
METHOD:PUBLISH
BEGIN:VEVENT
DTSTAMP:20260422T175347Z
UID:7-560957@messageof.tithelysetup2.com
DTSTART:20261024T143000Z
DTEND:20261024T145500Z
CLASS:PUBLIC
CREATED:20260422T110641
DESCRIPTION:
LAST-MODIFIED:20260422T110641
LOCATION:970 Tuskawilla Road\, Winter Springs\, FL. 32708
SUMMARY:Good MOHrning Sabbath School
URL;VALUE=URI:https://mohsda.org/events/good-mohrning-sabbath-school/2026-1
 0-24
END:VEVENT
END:VCALENDAR
