BEGIN:VCALENDAR
VERSION:2.0
PRODID:icalendar-ruby
CALSCALE:GREGORIAN
METHOD:PUBLISH
BEGIN:VEVENT
DTSTAMP:20260422T192830Z
UID:6-561251@messageof.tithelysetup2.com
DTSTART:20261031T150000Z
DTEND:20261031T171500Z
CLASS:PUBLIC
CREATED:20260422T140150
DESCRIPTION:
LAST-MODIFIED:20260422T140150
LOCATION:970 Tuskawilla Road\, Winter Springs\, FL. 32708
SUMMARY:Divine Worship
URL;VALUE=URI:https://mohsda.org/events/divine-worship/2026-10-31
END:VEVENT
END:VCALENDAR
