BEGIN:VCALENDAR
VERSION:2.0
PRODID:icalendar-ruby
CALSCALE:GREGORIAN
METHOD:PUBLISH
BEGIN:VEVENT
DTSTAMP:20260422T174908Z
UID:6-560826@messageof.tithelysetup2.com
DTSTART:20261024T150000Z
DTEND:20261024T171500Z
CLASS:PUBLIC
CREATED:20260422T110641
DESCRIPTION:
LAST-MODIFIED:20260422T110641
LOCATION:970 Tuskawilla Road\, Winter Springs\, FL. 32708
SUMMARY:Divine Worship
URL;VALUE=URI:https://mohsda.org/events/divine-worship/2026-10-24
END:VEVENT
END:VCALENDAR
