BEGIN:VCALENDAR
VERSION:2.0
PRODID:icalendar-ruby
CALSCALE:GREGORIAN
METHOD:PUBLISH
BEGIN:VEVENT
DTSTAMP:20260422T160412Z
UID:6-560825@messageof.tithelysetup2.com
DTSTART:20261017T150000Z
DTEND:20261017T171500Z
CLASS:PUBLIC
CREATED:20260422T110641
DESCRIPTION:
LAST-MODIFIED:20260422T110641
LOCATION:970 Tuskawilla Road\, Winter Springs\, FL. 32708
SUMMARY:Divine Worship
URL;VALUE=URI:https://mohsda.org/events/divine-worship/2026-10-17
END:VEVENT
END:VCALENDAR
