BEGIN:VCALENDAR
VERSION:2.0
PRODID:icalendar-ruby
CALSCALE:GREGORIAN
METHOD:PUBLISH
BEGIN:VEVENT
DTSTAMP:20260422T125317Z
UID:6-560399@messageof.tithelysetup2.com
DTSTART:20261003T150000Z
DTEND:20261003T171500Z
CLASS:PUBLIC
CREATED:20260422T081143
DESCRIPTION:
LAST-MODIFIED:20260422T081143
LOCATION:970 Tuskawilla Road\, Winter Springs\, FL. 32708
SUMMARY:Divine Worship
URL;VALUE=URI:https://mohsda.org/events/divine-worship/2026-10-03
END:VEVENT
END:VCALENDAR
