BEGIN:VCALENDAR
VERSION:2.0
PRODID:icalendar-ruby
CALSCALE:GREGORIAN
METHOD:PUBLISH
BEGIN:VEVENT
DTSTAMP:20260422T112202Z
UID:6-559974@messageof.tithelysetup2.com
DTSTART:20260926T150000Z
DTEND:20260926T171500Z
CLASS:PUBLIC
CREATED:20260421T210622
DESCRIPTION:
LAST-MODIFIED:20260421T210622
LOCATION:970 Tuskawilla Road\, Winter Springs\, FL. 32708
SUMMARY:Divine Worship
URL;VALUE=URI:https://mohsda.org/events/divine-worship/2026-09-26
END:VEVENT
END:VCALENDAR
